BEGIN:VCALENDAR
VERSION:2.0
PRODID:-//Polly Knitter - ECPv6.15.20//NONSGML v1.0//EN
CALSCALE:GREGORIAN
METHOD:PUBLISH
X-ORIGINAL-URL:https://pollyknitter.co.uk
X-WR-CALDESC:Events for Polly Knitter
REFRESH-INTERVAL;VALUE=DURATION:PT1H
X-Robots-Tag:noindex
X-PUBLISHED-TTL:PT1H
BEGIN:VTIMEZONE
TZID:Europe/London
BEGIN:DAYLIGHT
TZOFFSETFROM:+0000
TZOFFSETTO:+0100
TZNAME:BST
DTSTART:20240331T010000
END:DAYLIGHT
BEGIN:STANDARD
TZOFFSETFROM:+0100
TZOFFSETTO:+0000
TZNAME:GMT
DTSTART:20241027T010000
END:STANDARD
BEGIN:DAYLIGHT
TZOFFSETFROM:+0000
TZOFFSETTO:+0100
TZNAME:BST
DTSTART:20250330T010000
END:DAYLIGHT
BEGIN:STANDARD
TZOFFSETFROM:+0100
TZOFFSETTO:+0000
TZNAME:GMT
DTSTART:20251026T010000
END:STANDARD
BEGIN:DAYLIGHT
TZOFFSETFROM:+0000
TZOFFSETTO:+0100
TZNAME:BST
DTSTART:20260329T010000
END:DAYLIGHT
BEGIN:STANDARD
TZOFFSETFROM:+0100
TZOFFSETTO:+0000
TZNAME:GMT
DTSTART:20261025T010000
END:STANDARD
END:VTIMEZONE
BEGIN:VEVENT
DTSTART;TZID=Europe/London:20250206T180000
DTEND;TZID=Europe/London:20250206T200000
DTSTAMP:20260425T122908
CREATED:20250203T120712Z
LAST-MODIFIED:20250203T120712Z
UID:16811-1738864800-1738872000@pollyknitter.co.uk
SUMMARY:Stitches and Hos Stitch Up February
DESCRIPTION:Join us on Thursday 6th February at Moseley Hive for our monthly stitch social Stitch Up\, 6-8pm\, the first Stitch Up of 2025! \nBring along your current stitch based project and join our friendly conversation. \nIt’s free to attend and all are welcome\, there’ll be free hot drinks and biscuits too! Hope to see you there! \nNext month’s Stitch Up will be on Thursday 6th March.
URL:https://pollyknitter.co.uk/event/stitches-and-hos-stitch-up-february/
LOCATION:Moseley Hive\, 93a Alcester Road\, Birmingham\, B13 8DD\, United Kingdom
CATEGORIES:Social
END:VEVENT
BEGIN:VEVENT
DTSTART;VALUE=DATE:20250214
DTEND;VALUE=DATE:20250217
DTSTAMP:20260425T122908
CREATED:20250203T121339Z
LAST-MODIFIED:20250203T121339Z
UID:16816-1739491200-1739750399@pollyknitter.co.uk
SUMMARY:Unravel
DESCRIPTION:
URL:https://pollyknitter.co.uk/event/unravel-2/
LOCATION:Farnham Maltings\, Bridge Square\, Farnham\, Surrey\, GU9 7QR
CATEGORIES:Festivals
END:VEVENT
BEGIN:VEVENT
DTSTART;VALUE=DATE:20250215
DTEND;VALUE=DATE:20250217
DTSTAMP:20260425T122908
CREATED:20250203T121622Z
LAST-MODIFIED:20250203T121622Z
UID:16818-1739577600-1739750399@pollyknitter.co.uk
SUMMARY:Spring Into Textiles East Fair
DESCRIPTION:
URL:https://pollyknitter.co.uk/event/spring-into-textiles-east-fair/
LOCATION:The Burgess Hall\, One Leisure\, Westwood Rd\, St Ives\, Saint Ives PE27 6WU
CATEGORIES:Festivals
END:VEVENT
BEGIN:VEVENT
DTSTART;TZID=Europe/London:20250215T100000
DTEND;TZID=Europe/London:20250216T160000
DTSTAMP:20260425T122908
CREATED:20250202T163005Z
LAST-MODIFIED:20250202T163005Z
UID:16785-1739613600-1739721600@pollyknitter.co.uk
SUMMARY:North West Winter Wool Festival
DESCRIPTION:15 & 16 February 2025 \nImperial Hotel Blackpool \n10am -4pm (11am for tickets sold on the door)
URL:https://pollyknitter.co.uk/event/north-west-winter-wool-festival/
LOCATION:Imperial Hotel\, Blackpool
CATEGORIES:Festivals
END:VEVENT
END:VCALENDAR