BEGIN:VCALENDAR
VERSION:2.0
PRODID:-//Polly Knitter - ECPv6.15.20//NONSGML v1.0//EN
CALSCALE:GREGORIAN
METHOD:PUBLISH
X-WR-CALNAME:Polly Knitter
X-ORIGINAL-URL:https://pollyknitter.co.uk
X-WR-CALDESC:Events for Polly Knitter
REFRESH-INTERVAL;VALUE=DURATION:PT1H
X-Robots-Tag:noindex
X-PUBLISHED-TTL:PT1H
BEGIN:VTIMEZONE
TZID:Europe/London
BEGIN:DAYLIGHT
TZOFFSETFROM:+0000
TZOFFSETTO:+0100
TZNAME:BST
DTSTART:20220327T010000
END:DAYLIGHT
BEGIN:STANDARD
TZOFFSETFROM:+0100
TZOFFSETTO:+0000
TZNAME:GMT
DTSTART:20221030T010000
END:STANDARD
BEGIN:DAYLIGHT
TZOFFSETFROM:+0000
TZOFFSETTO:+0100
TZNAME:BST
DTSTART:20230326T010000
END:DAYLIGHT
BEGIN:STANDARD
TZOFFSETFROM:+0100
TZOFFSETTO:+0000
TZNAME:GMT
DTSTART:20231029T010000
END:STANDARD
BEGIN:DAYLIGHT
TZOFFSETFROM:+0000
TZOFFSETTO:+0100
TZNAME:BST
DTSTART:20240331T010000
END:DAYLIGHT
BEGIN:STANDARD
TZOFFSETFROM:+0100
TZOFFSETTO:+0000
TZNAME:GMT
DTSTART:20241027T010000
END:STANDARD
END:VTIMEZONE
BEGIN:VEVENT
DTSTART;TZID=Europe/London:20230701T100000
DTEND;TZID=Europe/London:20230701T160000
DTSTAMP:20260422T100905
CREATED:20230612T124823Z
LAST-MODIFIED:20230612T124823Z
UID:16778-1688205600-1688227200@pollyknitter.co.uk
SUMMARY:The Farmer's Yarn Festival
DESCRIPTION:
URL:https://pollyknitter.co.uk/event/the-farmers-yarn-festival/
LOCATION:The Farmer’s Arms\, Lowick Green LA12 8DT
CATEGORIES:Festivals
END:VEVENT
BEGIN:VEVENT
DTSTART;TZID=Europe/London:20230729T080000
DTEND;TZID=Europe/London:20230730T170000
DTSTAMP:20260422T100905
CREATED:20230128T210225Z
LAST-MODIFIED:20230128T210225Z
UID:16561-1690617600-1690736400@pollyknitter.co.uk
SUMMARY:Summer Wool Festival
DESCRIPTION:
URL:https://pollyknitter.co.uk/event/summer-wool-festival-2/
LOCATION:Redborne School\, Ampthill\, MK45 2NU
CATEGORIES:Festivals
END:VEVENT
END:VCALENDAR