BEGIN:VCALENDAR
VERSION:2.0
PRODID:-//Polly Knitter - ECPv6.15.20//NONSGML v1.0//EN
CALSCALE:GREGORIAN
METHOD:PUBLISH
X-WR-CALNAME:Polly Knitter
X-ORIGINAL-URL:https://pollyknitter.co.uk
X-WR-CALDESC:Events for Polly Knitter
REFRESH-INTERVAL;VALUE=DURATION:PT1H
X-Robots-Tag:noindex
X-PUBLISHED-TTL:PT1H
BEGIN:VTIMEZONE
TZID:Europe/London
BEGIN:DAYLIGHT
TZOFFSETFROM:+0000
TZOFFSETTO:+0100
TZNAME:BST
DTSTART:20220327T010000
END:DAYLIGHT
BEGIN:STANDARD
TZOFFSETFROM:+0100
TZOFFSETTO:+0000
TZNAME:GMT
DTSTART:20221030T010000
END:STANDARD
BEGIN:DAYLIGHT
TZOFFSETFROM:+0000
TZOFFSETTO:+0100
TZNAME:BST
DTSTART:20230326T010000
END:DAYLIGHT
BEGIN:STANDARD
TZOFFSETFROM:+0100
TZOFFSETTO:+0000
TZNAME:GMT
DTSTART:20231029T010000
END:STANDARD
BEGIN:DAYLIGHT
TZOFFSETFROM:+0000
TZOFFSETTO:+0100
TZNAME:BST
DTSTART:20240331T010000
END:DAYLIGHT
BEGIN:STANDARD
TZOFFSETFROM:+0100
TZOFFSETTO:+0000
TZNAME:GMT
DTSTART:20241027T010000
END:STANDARD
END:VTIMEZONE
BEGIN:VEVENT
DTSTART;VALUE=DATE:20230610
DTEND;VALUE=DATE:20230611
DTSTAMP:20260424T112504
CREATED:20220319T160312Z
LAST-MODIFIED:20230221T211954Z
UID:14925-1686355200-1686441599@pollyknitter.co.uk
SUMMARY:Great Big London Yarn Crawl
DESCRIPTION:
URL:https://pollyknitter.co.uk/event/cambridge-yarn-festival/
CATEGORIES:Social
END:VEVENT
BEGIN:VEVENT
DTSTART;VALUE=DATE:20230624
DTEND;VALUE=DATE:20230626
DTSTAMP:20260424T112504
CREATED:20230203T100404Z
LAST-MODIFIED:20230203T100404Z
UID:16597-1687564800-1687737599@pollyknitter.co.uk
SUMMARY:Cumbrian Wool Gathering
DESCRIPTION:
URL:https://pollyknitter.co.uk/event/cumbrian-wool-gathering/
LOCATION:J36 Rural Auction Centre\, Crooklands Milnthorpe Cumbria LA7 7FP
CATEGORIES:Festivals
END:VEVENT
END:VCALENDAR