BEGIN:VCALENDAR
VERSION:2.0
PRODID:-//Polly Knitter - ECPv6.15.20//NONSGML v1.0//EN
CALSCALE:GREGORIAN
METHOD:PUBLISH
X-ORIGINAL-URL:https://pollyknitter.co.uk
X-WR-CALDESC:Events for Polly Knitter
REFRESH-INTERVAL;VALUE=DURATION:PT1H
X-Robots-Tag:noindex
X-PUBLISHED-TTL:PT1H
BEGIN:VTIMEZONE
TZID:Europe/London
BEGIN:DAYLIGHT
TZOFFSETFROM:+0000
TZOFFSETTO:+0100
TZNAME:BST
DTSTART:20240331T010000
END:DAYLIGHT
BEGIN:STANDARD
TZOFFSETFROM:+0100
TZOFFSETTO:+0000
TZNAME:GMT
DTSTART:20241027T010000
END:STANDARD
BEGIN:DAYLIGHT
TZOFFSETFROM:+0000
TZOFFSETTO:+0100
TZNAME:BST
DTSTART:20250330T010000
END:DAYLIGHT
BEGIN:STANDARD
TZOFFSETFROM:+0100
TZOFFSETTO:+0000
TZNAME:GMT
DTSTART:20251026T010000
END:STANDARD
BEGIN:DAYLIGHT
TZOFFSETFROM:+0000
TZOFFSETTO:+0100
TZNAME:BST
DTSTART:20260329T010000
END:DAYLIGHT
BEGIN:STANDARD
TZOFFSETFROM:+0100
TZOFFSETTO:+0000
TZNAME:GMT
DTSTART:20261025T010000
END:STANDARD
END:VTIMEZONE
BEGIN:VEVENT
DTSTART;TZID=Europe/London:20250524T110000
DTEND;TZID=Europe/London:20250524T170000
DTSTAMP:20260424T171618
CREATED:20250203T123006Z
LAST-MODIFIED:20250203T123006Z
UID:16823-1748084400-1748106000@pollyknitter.co.uk
SUMMARY:Yarnies at the Flaxmill
DESCRIPTION:
URL:https://pollyknitter.co.uk/event/yarnies-at-the-flaxmill/
LOCATION:Shrewsbury Flaxmill Maltings\, Spring Gardens\, Shrewsbury\, SY1 2SZ\, United Kingdom
CATEGORIES:Festivals
END:VEVENT
END:VCALENDAR